BEGIN:VCALENDAR
VERSION:2.0
PRODID:-//Gemeinde Eschenburg - Echte Perspektiven - ECPv6.15.17.1//NONSGML v1.0//EN
CALSCALE:GREGORIAN
METHOD:PUBLISH
X-ORIGINAL-URL:https://www.gemeinde-eschenburg.de
X-WR-CALDESC:Veranstaltungen für Gemeinde Eschenburg - Echte Perspektiven
REFRESH-INTERVAL;VALUE=DURATION:PT1H
X-Robots-Tag:noindex
X-PUBLISHED-TTL:PT1H
BEGIN:VTIMEZONE
TZID:Europe/Berlin
BEGIN:DAYLIGHT
TZOFFSETFROM:+0100
TZOFFSETTO:+0200
TZNAME:CEST
DTSTART:20250330T010000
END:DAYLIGHT
BEGIN:STANDARD
TZOFFSETFROM:+0200
TZOFFSETTO:+0100
TZNAME:CET
DTSTART:20251026T010000
END:STANDARD
BEGIN:DAYLIGHT
TZOFFSETFROM:+0100
TZOFFSETTO:+0200
TZNAME:CEST
DTSTART:20260329T010000
END:DAYLIGHT
BEGIN:STANDARD
TZOFFSETFROM:+0200
TZOFFSETTO:+0100
TZNAME:CET
DTSTART:20261025T010000
END:STANDARD
BEGIN:DAYLIGHT
TZOFFSETFROM:+0100
TZOFFSETTO:+0200
TZNAME:CEST
DTSTART:20270328T010000
END:DAYLIGHT
BEGIN:STANDARD
TZOFFSETFROM:+0200
TZOFFSETTO:+0100
TZNAME:CET
DTSTART:20271031T010000
END:STANDARD
END:VTIMEZONE
BEGIN:VEVENT
DTSTART;VALUE=DATE:20260302
DTEND;VALUE=DATE:20260303
DTSTAMP:20260419T160722
CREATED:20251222T085025Z
LAST-MODIFIED:20251222T085025Z
UID:20544-1772409600-1772495999@www.gemeinde-eschenburg.de
SUMMARY:Monatsversammlung
DESCRIPTION:Landfrauen Wissenbach -Sälchen im Backes
URL:https://www.gemeinde-eschenburg.de/veranstaltung/monatsversammlung-8/
END:VEVENT
BEGIN:VEVENT
DTSTART;VALUE=DATE:20260302
DTEND;VALUE=DATE:20260307
DTSTAMP:20260419T160722
CREATED:20251218T080022Z
LAST-MODIFIED:20251218T080022Z
UID:19990-1772409600-1772841599@www.gemeinde-eschenburg.de
SUMMARY:True Story
DESCRIPTION:FeG/Kirchengemeinde/CVJM Eibelshausen  –  FeG Eibelshausen
URL:https://www.gemeinde-eschenburg.de/veranstaltung/true-story/
END:VEVENT
BEGIN:VEVENT
DTSTART;TZID=Europe/Berlin:20260303T190000
DTEND;TZID=Europe/Berlin:20260303T190000
DTSTAMP:20260419T160722
CREATED:20251218T080022Z
LAST-MODIFIED:20251218T080022Z
UID:19991-1772564400-1772564400@www.gemeinde-eschenburg.de
SUMMARY:Trainingszeiten Ortspokal Schießen
DESCRIPTION:Schützengilde Eibelshausen  –  Schützenhaus
URL:https://www.gemeinde-eschenburg.de/veranstaltung/trainingszeiten-ortspokal-schiessen-6/
END:VEVENT
BEGIN:VEVENT
DTSTART;TZID=Europe/Berlin:20260306T190000
DTEND;TZID=Europe/Berlin:20260306T190000
DTSTAMP:20260419T160722
CREATED:20251218T080022Z
LAST-MODIFIED:20251218T080022Z
UID:19992-1772823600-1772823600@www.gemeinde-eschenburg.de
SUMMARY:Trainingszeiten Ortspokal Schießen
DESCRIPTION:Schützengilde Eibelshausen  –  Schützenhaus
URL:https://www.gemeinde-eschenburg.de/veranstaltung/trainingszeiten-ortspokal-schiessen-5/
END:VEVENT
BEGIN:VEVENT
DTSTART;TZID=Europe/Berlin:20260306T190000
DTEND;TZID=Europe/Berlin:20260306T190000
DTSTAMP:20260419T160722
CREATED:20251218T080022Z
LAST-MODIFIED:20251218T080022Z
UID:19993-1772823600-1772823600@www.gemeinde-eschenburg.de
SUMMARY:Jahreshauptversammlung
DESCRIPTION:TV Eibelshausen  –  Bürgerhaus
URL:https://www.gemeinde-eschenburg.de/veranstaltung/jahreshauptversammlung-4/
END:VEVENT
BEGIN:VEVENT
DTSTART;TZID=Europe/Berlin:20260306T190000
DTEND;TZID=Europe/Berlin:20260306T190000
DTSTAMP:20260419T160722
CREATED:20251222T074924Z
LAST-MODIFIED:20251222T074924Z
UID:20382-1772823600-1772823600@www.gemeinde-eschenburg.de
SUMMARY:Jahreshauptversammlung Schützenverein Simmersbach
DESCRIPTION:Schützenverein Simmersbach – Schützenhaus
URL:https://www.gemeinde-eschenburg.de/veranstaltung/jahreshauptversammlung-schuetzenverein-simmersbach/
END:VEVENT
BEGIN:VEVENT
DTSTART;TZID=Europe/Berlin:20260306T193000
DTEND;TZID=Europe/Berlin:20260306T193000
DTSTAMP:20260419T160722
CREATED:20251222T074924Z
LAST-MODIFIED:20251222T074924Z
UID:20383-1772825400-1772825400@www.gemeinde-eschenburg.de
SUMMARY:Weltgebetstag
DESCRIPTION:Ev. Kirchengemeinde Simmersbach
URL:https://www.gemeinde-eschenburg.de/veranstaltung/weltgebetstag/
END:VEVENT
BEGIN:VEVENT
DTSTART;TZID=Europe/Berlin:20260307T100000
DTEND;TZID=Europe/Berlin:20260307T100000
DTSTAMP:20260419T160722
CREATED:20251222T074924Z
LAST-MODIFIED:20251222T074924Z
UID:20384-1772877600-1772877600@www.gemeinde-eschenburg.de
SUMMARY:Baumschnittkurs
DESCRIPTION:Verschönerungsverein Simmersbach – Streuobstwiese
URL:https://www.gemeinde-eschenburg.de/veranstaltung/baumschnittkurs/
END:VEVENT
BEGIN:VEVENT
DTSTART;TZID=Europe/Berlin:20260307T110000
DTEND;TZID=Europe/Berlin:20260307T110000
DTSTAMP:20260419T160722
CREATED:20251218T080022Z
LAST-MODIFIED:20251218T080022Z
UID:19994-1772881200-1772881200@www.gemeinde-eschenburg.de
SUMMARY:Jahreshauptversammlung
DESCRIPTION:Angelsportverein Eibelshausen  –  Angelhütte
URL:https://www.gemeinde-eschenburg.de/veranstaltung/jahreshauptversammlung-3/
END:VEVENT
BEGIN:VEVENT
DTSTART;TZID=Europe/Berlin:20260307T140000
DTEND;TZID=Europe/Berlin:20260307T140000
DTSTAMP:20260419T160722
CREATED:20251218T143658Z
LAST-MODIFIED:20251218T143658Z
UID:20180-1772892000-1772892000@www.gemeinde-eschenburg.de
SUMMARY:Winterschnittkurs an Obstbäumen
DESCRIPTION:OGV Hirzenhain – In den Betten/Weg Richtung OT Bahnhof
URL:https://www.gemeinde-eschenburg.de/veranstaltung/winterschnittkurs-an-obstbaeumen/
END:VEVENT
BEGIN:VEVENT
DTSTART;TZID=Europe/Berlin:20260307T150000
DTEND;TZID=Europe/Berlin:20260307T150000
DTSTAMP:20260419T160722
CREATED:20251218T105844Z
LAST-MODIFIED:20251218T105844Z
UID:20129-1772895600-1772895600@www.gemeinde-eschenburg.de
SUMMARY:Jahreshauptversammlung OGV
DESCRIPTION:OGV Eiershausen – DGH Eiershausen
URL:https://www.gemeinde-eschenburg.de/veranstaltung/jahreshauptversammlung-ogv/
END:VEVENT
BEGIN:VEVENT
DTSTART;TZID=Europe/Berlin:20260307T163000
DTEND;TZID=Europe/Berlin:20260307T163000
DTSTAMP:20260419T160722
CREATED:20251222T074924Z
LAST-MODIFIED:20251222T074924Z
UID:20385-1772901000-1772901000@www.gemeinde-eschenburg.de
SUMMARY:Jahreshauptversammlung VdK Simmersbach
DESCRIPTION:VdK Simmersbach – Dorfgemeinschaftshaus
URL:https://www.gemeinde-eschenburg.de/veranstaltung/jahreshauptversammlung-vdk-simmersbach/
END:VEVENT
BEGIN:VEVENT
DTSTART;TZID=Europe/Berlin:20260307T170000
DTEND;TZID=Europe/Berlin:20260307T210000
DTSTAMP:20260419T160722
CREATED:20251222T072608Z
LAST-MODIFIED:20251222T072608Z
UID:20318-1772902800-1772917200@www.gemeinde-eschenburg.de
SUMMARY:Mitgliederversammlung
DESCRIPTION:VdK-Mandeln/Roth – DGH-neu Mandeln
URL:https://www.gemeinde-eschenburg.de/veranstaltung/mitgliederversammlung/
END:VEVENT
BEGIN:VEVENT
DTSTART;TZID=Europe/Berlin:20260307T180000
DTEND;TZID=Europe/Berlin:20260307T180000
DTSTAMP:20260419T160722
CREATED:20251218T143658Z
LAST-MODIFIED:20251218T143658Z
UID:20179-1772906400-1772906400@www.gemeinde-eschenburg.de
SUMMARY:Jahreshauptversammlung TSV
DESCRIPTION:TSV Hirzenhain – DGH Hirzenhain
URL:https://www.gemeinde-eschenburg.de/veranstaltung/jahreshauptversammlung-tsv/
END:VEVENT
BEGIN:VEVENT
DTSTART;VALUE=DATE:20260308
DTEND;VALUE=DATE:20260309
DTSTAMP:20260419T160722
CREATED:20251218T080022Z
LAST-MODIFIED:20251218T080022Z
UID:19995-1772928000-1773014399@www.gemeinde-eschenburg.de
SUMMARY:CVJM Gottesdienst
DESCRIPTION:CVJM Eibelshausen  –  ev. Kirche Eibelshausen
URL:https://www.gemeinde-eschenburg.de/veranstaltung/cvjm-gottesdienst/
END:VEVENT
BEGIN:VEVENT
DTSTART;TZID=Europe/Berlin:20260310T190000
DTEND;TZID=Europe/Berlin:20260310T190000
DTSTAMP:20260419T160722
CREATED:20251218T080022Z
LAST-MODIFIED:20251218T080022Z
UID:19996-1773169200-1773169200@www.gemeinde-eschenburg.de
SUMMARY:Trainingszeiten Ortspokal Schießen
DESCRIPTION:Schützengilde Eibelshausen  –  Schützenhaus
URL:https://www.gemeinde-eschenburg.de/veranstaltung/trainingszeiten-ortspokal-schiessen-4/
END:VEVENT
BEGIN:VEVENT
DTSTART;TZID=Europe/Berlin:20260311T153000
DTEND;TZID=Europe/Berlin:20260311T153000
DTSTAMP:20260419T160722
CREATED:20251218T080022Z
LAST-MODIFIED:20251218T080022Z
UID:19997-1773243000-1773243000@www.gemeinde-eschenburg.de
SUMMARY:Jahreshauptversammlung
DESCRIPTION:Landfrauen Eibelshausen   –  Bürgerhaus
URL:https://www.gemeinde-eschenburg.de/veranstaltung/jahreshauptversammlung-2/
END:VEVENT
BEGIN:VEVENT
DTSTART;TZID=Europe/Berlin:20260312T190000
DTEND;TZID=Europe/Berlin:20260312T190000
DTSTAMP:20260419T160722
CREATED:20251222T074924Z
LAST-MODIFIED:20251222T074924Z
UID:20386-1773342000-1773342000@www.gemeinde-eschenburg.de
SUMMARY:Jahreshauptversammlung Ev. Gemeinschaftsverein Simmersbach
DESCRIPTION:Ev. Gemeinschaftsverein Simmersbach – Ev. Vereinshaus
URL:https://www.gemeinde-eschenburg.de/veranstaltung/jahreshauptversammlung-ev-gemeinschaftsverein-simmersbach/
END:VEVENT
BEGIN:VEVENT
DTSTART;TZID=Europe/Berlin:20260313T180000
DTEND;TZID=Europe/Berlin:20260313T180000
DTSTAMP:20260419T160722
CREATED:20251222T085025Z
LAST-MODIFIED:20251222T085025Z
UID:20545-1773424800-1773424800@www.gemeinde-eschenburg.de
SUMMARY:Jahreshauptversammlung VdK Wissenbach
DESCRIPTION:VdK Wissenbach – DGS Wissenbach
URL:https://www.gemeinde-eschenburg.de/veranstaltung/jahreshauptversammlung-vdk-wissenbach/
END:VEVENT
BEGIN:VEVENT
DTSTART;TZID=Europe/Berlin:20260313T190000
DTEND;TZID=Europe/Berlin:20260313T190000
DTSTAMP:20260419T160722
CREATED:20251218T080021Z
LAST-MODIFIED:20251218T080021Z
UID:19998-1773428400-1773428400@www.gemeinde-eschenburg.de
SUMMARY:Trainingszeiten Ortspokal Schießen
DESCRIPTION:Schützengilde Eibelshausen  –  Schützenhaus
URL:https://www.gemeinde-eschenburg.de/veranstaltung/trainingszeiten-ortspokal-schiessen-3/
END:VEVENT
BEGIN:VEVENT
DTSTART;TZID=Europe/Berlin:20260314T170000
DTEND;TZID=Europe/Berlin:20260314T170000
DTSTAMP:20260419T160722
CREATED:20251222T074924Z
LAST-MODIFIED:20251222T074924Z
UID:20387-1773507600-1773507600@www.gemeinde-eschenburg.de
SUMMARY:Jahreshauptversammlung MFC
DESCRIPTION:MFC Simmersbach – Bullenstall
URL:https://www.gemeinde-eschenburg.de/veranstaltung/jahreshauptversammlung-mfc/
END:VEVENT
BEGIN:VEVENT
DTSTART;TZID=Europe/Berlin:20260314T193000
DTEND;TZID=Europe/Berlin:20260314T193000
DTSTAMP:20260419T160722
CREATED:20251222T072608Z
LAST-MODIFIED:20251222T072608Z
UID:20319-1773516600-1773516600@www.gemeinde-eschenburg.de
SUMMARY:Jahreshauptversammlung
DESCRIPTION:Jugendclub Roth – Schutzhütte
URL:https://www.gemeinde-eschenburg.de/veranstaltung/jahreshauptversammlung-11/
END:VEVENT
BEGIN:VEVENT
DTSTART;VALUE=DATE:20260315
DTEND;VALUE=DATE:20260316
DTSTAMP:20260419T160722
CREATED:20251222T072608Z
LAST-MODIFIED:20251222T072608Z
UID:20320-1773532800-1773619199@www.gemeinde-eschenburg.de
SUMMARY:Kommunalwahlen
DESCRIPTION:Gemeinde – DGH Roth
URL:https://www.gemeinde-eschenburg.de/veranstaltung/kommunalwahlen/
END:VEVENT
BEGIN:VEVENT
DTSTART;TZID=Europe/Berlin:20260317T190000
DTEND;TZID=Europe/Berlin:20260317T190000
DTSTAMP:20260419T160722
CREATED:20251218T080021Z
LAST-MODIFIED:20251218T080021Z
UID:19999-1773774000-1773774000@www.gemeinde-eschenburg.de
SUMMARY:Trainingszeiten Ortspokal Schießen
DESCRIPTION:Schützengilde Eibelshausen  –  Schützenhaus
URL:https://www.gemeinde-eschenburg.de/veranstaltung/trainingszeiten-ortspokal-schiessen-2/
END:VEVENT
BEGIN:VEVENT
DTSTART;VALUE=DATE:20260320
DTEND;VALUE=DATE:20260321
DTSTAMP:20260419T160722
CREATED:20251218T143658Z
LAST-MODIFIED:20260305T090016Z
UID:20181-1773964800-1774051199@www.gemeinde-eschenburg.de
SUMMARY:Jahreshauptversammlung Vogelschutzverein
DESCRIPTION:Vogelschutzverein Hirzenhain – DGH Hirzenhain
URL:https://www.gemeinde-eschenburg.de/veranstaltung/jahreshauptversammlung-vogelschutzverein/
END:VEVENT
BEGIN:VEVENT
DTSTART;VALUE=DATE:20260320
DTEND;VALUE=DATE:20260321
DTSTAMP:20260419T160722
CREATED:20251218T143658Z
LAST-MODIFIED:20260205T111020Z
UID:20177-1773964800-1774051199@www.gemeinde-eschenburg.de
SUMMARY:Jahreshauptversammlung SSV Eintracht Hirzenhain
DESCRIPTION:Sportverein
URL:https://www.gemeinde-eschenburg.de/veranstaltung/jahreshauptversammlung-sportverein-hirzenhain/
END:VEVENT
BEGIN:VEVENT
DTSTART;TZID=Europe/Berlin:20260320T190000
DTEND;TZID=Europe/Berlin:20260320T190000
DTSTAMP:20260419T160722
CREATED:20251218T080021Z
LAST-MODIFIED:20251218T080021Z
UID:20000-1774033200-1774033200@www.gemeinde-eschenburg.de
SUMMARY:Trainingszeiten Ortspokal Schießen
DESCRIPTION:Schützengilde Eibelshausen  –  Schützenhaus
URL:https://www.gemeinde-eschenburg.de/veranstaltung/trainingszeiten-ortspokal-schiessen/
END:VEVENT
BEGIN:VEVENT
DTSTART;TZID=Europe/Berlin:20260320T190000
DTEND;TZID=Europe/Berlin:20260320T190000
DTSTAMP:20260419T160722
CREATED:20251222T074924Z
LAST-MODIFIED:20251222T074924Z
UID:20388-1774033200-1774033200@www.gemeinde-eschenburg.de
SUMMARY:Feuerabend für Männer
DESCRIPTION:FeG Simmersbach
URL:https://www.gemeinde-eschenburg.de/veranstaltung/feuerabend-fuer-maenner/
END:VEVENT
BEGIN:VEVENT
DTSTART;VALUE=DATE:20260321
DTEND;VALUE=DATE:20260322
DTSTAMP:20260419T160722
CREATED:20251218T080021Z
LAST-MODIFIED:20251218T080021Z
UID:20001-1774051200-1774137599@www.gemeinde-eschenburg.de
SUMMARY:Frühjahrsbörse Kinderspielzeug /-kleidung
DESCRIPTION:Wühlmäuse  –  Bürgerhaus Eibelshausen
URL:https://www.gemeinde-eschenburg.de/veranstaltung/fruehjahrsboerse-kinderspielzeug-kleidung/
END:VEVENT
BEGIN:VEVENT
DTSTART;VALUE=DATE:20260321
DTEND;VALUE=DATE:20260322
DTSTAMP:20260419T160722
CREATED:20251218T143658Z
LAST-MODIFIED:20251218T143658Z
UID:20182-1774051200-1774137599@www.gemeinde-eschenburg.de
SUMMARY:Jahreshauptversammlung Motorradclub
DESCRIPTION:Motorradclub Hirzenhain
URL:https://www.gemeinde-eschenburg.de/veranstaltung/jahreshauptversammlung-motorradclub/
END:VEVENT
END:VCALENDAR