BEGIN:VCALENDAR
VERSION:2.0
PRODID:-//Gemeinde Eschenburg - Echte Perspektiven - ECPv6.15.17.1//NONSGML v1.0//EN
CALSCALE:GREGORIAN
METHOD:PUBLISH
X-ORIGINAL-URL:https://www.gemeinde-eschenburg.de
X-WR-CALDESC:Veranstaltungen für Gemeinde Eschenburg - Echte Perspektiven
REFRESH-INTERVAL;VALUE=DURATION:PT1H
X-Robots-Tag:noindex
X-PUBLISHED-TTL:PT1H
BEGIN:VTIMEZONE
TZID:Europe/Berlin
BEGIN:DAYLIGHT
TZOFFSETFROM:+0100
TZOFFSETTO:+0200
TZNAME:CEST
DTSTART:20250330T010000
END:DAYLIGHT
BEGIN:STANDARD
TZOFFSETFROM:+0200
TZOFFSETTO:+0100
TZNAME:CET
DTSTART:20251026T010000
END:STANDARD
BEGIN:DAYLIGHT
TZOFFSETFROM:+0100
TZOFFSETTO:+0200
TZNAME:CEST
DTSTART:20260329T010000
END:DAYLIGHT
BEGIN:STANDARD
TZOFFSETFROM:+0200
TZOFFSETTO:+0100
TZNAME:CET
DTSTART:20261025T010000
END:STANDARD
BEGIN:DAYLIGHT
TZOFFSETFROM:+0100
TZOFFSETTO:+0200
TZNAME:CEST
DTSTART:20270328T010000
END:DAYLIGHT
BEGIN:STANDARD
TZOFFSETFROM:+0200
TZOFFSETTO:+0100
TZNAME:CET
DTSTART:20271031T010000
END:STANDARD
END:VTIMEZONE
BEGIN:VEVENT
DTSTART;TZID=Europe/Berlin:20260201T100000
DTEND;TZID=Europe/Berlin:20260201T100000
DTSTAMP:20260419T174830
CREATED:20251218T105901Z
LAST-MODIFIED:20251218T105901Z
UID:20125-1769940000-1769940000@www.gemeinde-eschenburg.de
SUMMARY:Gründungsgottesdienst GesamtKirchengemeinde Eiershausen
DESCRIPTION:Kirchengemeinde Eiershausen – Kirche Eibelshausen
URL:https://www.gemeinde-eschenburg.de/veranstaltung/gruendungsgottesdienst-gesamtkirchengemeinde-eiershausen/
END:VEVENT
BEGIN:VEVENT
DTSTART;TZID=Europe/Berlin:20260201T150000
DTEND;TZID=Europe/Berlin:20260201T150000
DTSTAMP:20260419T174830
CREATED:20251218T080034Z
LAST-MODIFIED:20251218T080034Z
UID:19974-1769958000-1769958000@www.gemeinde-eschenburg.de
SUMMARY:Tanztee
DESCRIPTION:Landfrauen Eibelshausen  –  Bürgerhaus Eibelshausen
URL:https://www.gemeinde-eschenburg.de/veranstaltung/tanztee-2/
END:VEVENT
BEGIN:VEVENT
DTSTART;TZID=Europe/Berlin:20260201T160000
DTEND;TZID=Europe/Berlin:20260201T160000
DTSTAMP:20260419T174830
CREATED:20251218T080034Z
LAST-MODIFIED:20251218T080034Z
UID:19973-1769961600-1769961600@www.gemeinde-eschenburg.de
SUMMARY:Altenfeier
DESCRIPTION:SV Eibelshausen  –  Sportheim
URL:https://www.gemeinde-eschenburg.de/veranstaltung/altenfeier/
END:VEVENT
BEGIN:VEVENT
DTSTART;VALUE=DATE:20260202
DTEND;VALUE=DATE:20260203
DTSTAMP:20260419T174830
CREATED:20251222T085035Z
LAST-MODIFIED:20251222T085035Z
UID:20538-1769990400-1770076799@www.gemeinde-eschenburg.de
SUMMARY:Monatsversammlung
DESCRIPTION:Landfrauen Wissenbach -Sälchen im Backes
URL:https://www.gemeinde-eschenburg.de/veranstaltung/monatsversammlung-9/
END:VEVENT
BEGIN:VEVENT
DTSTART;VALUE=DATE:20260202
DTEND;VALUE=DATE:20260208
DTSTAMP:20260419T174830
CREATED:20251222T085025Z
LAST-MODIFIED:20251222T085025Z
UID:20537-1769990400-1770508799@www.gemeinde-eschenburg.de
SUMMARY:Winternest
DESCRIPTION:FeG Wissenbach -FeG Wissenbach
URL:https://www.gemeinde-eschenburg.de/veranstaltung/winternest/
END:VEVENT
BEGIN:VEVENT
DTSTART;VALUE=DATE:20260206
DTEND;VALUE=DATE:20260207
DTSTAMP:20260419T174830
CREATED:20251218T080034Z
LAST-MODIFIED:20251218T080034Z
UID:19975-1770336000-1770422399@www.gemeinde-eschenburg.de
SUMMARY:Kinderfest
DESCRIPTION:CVJM Eibelshausen  –  ev. Gemeindehaus Eibelshausen
URL:https://www.gemeinde-eschenburg.de/veranstaltung/kinderfest/
END:VEVENT
BEGIN:VEVENT
DTSTART;TZID=Europe/Berlin:20260206T190000
DTEND;TZID=Europe/Berlin:20260206T190000
DTSTAMP:20260419T174830
CREATED:20251222T074924Z
LAST-MODIFIED:20251222T074924Z
UID:20375-1770404400-1770404400@www.gemeinde-eschenburg.de
SUMMARY:Frauentreff
DESCRIPTION:FeG Simmersbach – Gemeindehaus FeG
URL:https://www.gemeinde-eschenburg.de/veranstaltung/frauentreff/
END:VEVENT
BEGIN:VEVENT
DTSTART;TZID=Europe/Berlin:20260207T180000
DTEND;TZID=Europe/Berlin:20260207T180000
DTSTAMP:20260419T174830
CREATED:20251218T080034Z
LAST-MODIFIED:20251218T080034Z
UID:19976-1770487200-1770487200@www.gemeinde-eschenburg.de
SUMMARY:Jahreshauptversammlung
DESCRIPTION:Schützengilde Eibelshausen  –  Schützenhaus
URL:https://www.gemeinde-eschenburg.de/veranstaltung/jahreshauptversammlung-9/
END:VEVENT
BEGIN:VEVENT
DTSTART;TZID=Europe/Berlin:20260207T180000
DTEND;TZID=Europe/Berlin:20260207T180000
DTSTAMP:20260419T174830
CREATED:20251222T072608Z
LAST-MODIFIED:20251222T072608Z
UID:20316-1770487200-1770487200@www.gemeinde-eschenburg.de
SUMMARY:Jahreshauptversammlung FFW Roth
DESCRIPTION:Feuerwehr Roth – Feuerwehrgerätehaus
URL:https://www.gemeinde-eschenburg.de/veranstaltung/jahreshauptversammlung-ffw-roth/
END:VEVENT
BEGIN:VEVENT
DTSTART;TZID=Europe/Berlin:20260207T180000
DTEND;TZID=Europe/Berlin:20260207T180000
DTSTAMP:20260419T174830
CREATED:20251222T085025Z
LAST-MODIFIED:20251222T085025Z
UID:20539-1770487200-1770487200@www.gemeinde-eschenburg.de
SUMMARY:Mitgliederversammlung
DESCRIPTION:Schützenverein 1970 Wissenbach e.V. – Schützenhaus
URL:https://www.gemeinde-eschenburg.de/veranstaltung/mitgliederversammlung-2/
END:VEVENT
BEGIN:VEVENT
DTSTART;VALUE=DATE:20260210
DTEND;VALUE=DATE:20260211
DTSTAMP:20260419T174830
CREATED:20251218T143658Z
LAST-MODIFIED:20251218T143658Z
UID:20174-1770681600-1770767999@www.gemeinde-eschenburg.de
SUMMARY:Jahreshauptversammlung Förderverein
DESCRIPTION:Förderverein Schutzhütte – DGH Hirzenhain
URL:https://www.gemeinde-eschenburg.de/veranstaltung/jahreshauptversammlung-foerderverein/
END:VEVENT
BEGIN:VEVENT
DTSTART;VALUE=DATE:20260211
DTEND;VALUE=DATE:20260212
DTSTAMP:20260419T174830
CREATED:20251218T143658Z
LAST-MODIFIED:20251218T143658Z
UID:20175-1770768000-1770854399@www.gemeinde-eschenburg.de
SUMMARY:Jahreshauptversammlung Posaunenchor
DESCRIPTION:Posaunenchor Hirzenhain
URL:https://www.gemeinde-eschenburg.de/veranstaltung/jahreshauptversammlung-posaunenchor/
END:VEVENT
BEGIN:VEVENT
DTSTART;TZID=Europe/Berlin:20260211T150000
DTEND;TZID=Europe/Berlin:20260211T150000
DTSTAMP:20260419T174830
CREATED:20251222T074924Z
LAST-MODIFIED:20251222T074924Z
UID:20376-1770822000-1770822000@www.gemeinde-eschenburg.de
SUMMARY:Seniorenkreis
DESCRIPTION:FeG Simmersbach – Gemeindehaus FeG
URL:https://www.gemeinde-eschenburg.de/veranstaltung/seniorenkreis/
END:VEVENT
BEGIN:VEVENT
DTSTART;TZID=Europe/Berlin:20260213T180000
DTEND;TZID=Europe/Berlin:20260213T203000
DTSTAMP:20260419T174830
CREATED:20251222T085025Z
LAST-MODIFIED:20251222T085025Z
UID:20540-1771005600-1771014600@www.gemeinde-eschenburg.de
SUMMARY:Fussball-Jugendturnier
DESCRIPTION:JFV Eschenburg e.V. – Holderberghalle Eibelshausen
URL:https://www.gemeinde-eschenburg.de/veranstaltung/fussball-jugendturnier-2/
END:VEVENT
BEGIN:VEVENT
DTSTART;VALUE=DATE:20260214
DTEND;VALUE=DATE:20260215
DTSTAMP:20260419T174830
CREATED:20251218T080034Z
LAST-MODIFIED:20251218T080034Z
UID:19977-1771027200-1771113599@www.gemeinde-eschenburg.de
SUMMARY:Jahreshauptversammlung
DESCRIPTION:Lederhosenfreunde  –  Vereinsheim Lederhosenfreunde
URL:https://www.gemeinde-eschenburg.de/veranstaltung/jahreshauptversammlung-8/
END:VEVENT
BEGIN:VEVENT
DTSTART;VALUE=DATE:20260214
DTEND;VALUE=DATE:20260215
DTSTAMP:20260419T174830
CREATED:20251218T143658Z
LAST-MODIFIED:20251218T143658Z
UID:20176-1771027200-1771113599@www.gemeinde-eschenburg.de
SUMMARY:Jahreshauptversammlung Wanderverein
DESCRIPTION:Wanderverein – DGH Hirzenhain
URL:https://www.gemeinde-eschenburg.de/veranstaltung/jahreshauptversammlung-wanderverein/
END:VEVENT
BEGIN:VEVENT
DTSTART;VALUE=DATE:20260214
DTEND;VALUE=DATE:20260215
DTSTAMP:20260419T174830
CREATED:20251222T074924Z
LAST-MODIFIED:20251222T074924Z
UID:20378-1771027200-1771113599@www.gemeinde-eschenburg.de
SUMMARY:Jahreshauptversammlung FFW Simmersbach
DESCRIPTION:FFW Simmersbach – Dorfgemeinschaftshaus
URL:https://www.gemeinde-eschenburg.de/veranstaltung/jahreshauptversammlung-ffw-simmersbach/
END:VEVENT
BEGIN:VEVENT
DTSTART;TZID=Europe/Berlin:20260214T080000
DTEND;TZID=Europe/Berlin:20260215T203000
DTSTAMP:20260419T174830
CREATED:20251222T085025Z
LAST-MODIFIED:20251222T085025Z
UID:20541-1771056000-1771187400@www.gemeinde-eschenburg.de
SUMMARY:Fussball-Jugendturnier
DESCRIPTION:JFV Eschenburg e.V. – Holderberghalle Eibelshausen
URL:https://www.gemeinde-eschenburg.de/veranstaltung/fussball-jugendturnier/
END:VEVENT
BEGIN:VEVENT
DTSTART;TZID=Europe/Berlin:20260214T190000
DTEND;TZID=Europe/Berlin:20260214T190000
DTSTAMP:20260419T174830
CREATED:20251222T074924Z
LAST-MODIFIED:20251222T074924Z
UID:20377-1771095600-1771095600@www.gemeinde-eschenburg.de
SUMMARY:Weinprobe mit dem Weingut Sander
DESCRIPTION:Ev. Gemeinschaftsverein Simmersbach – Ev. Vereinshaus
URL:https://www.gemeinde-eschenburg.de/veranstaltung/weinprobe-mit-dem-weingut-sander/
END:VEVENT
BEGIN:VEVENT
DTSTART;TZID=Europe/Berlin:20260214T201100
DTEND;TZID=Europe/Berlin:20260214T201100
DTSTAMP:20260419T174830
CREATED:20251218T080034Z
LAST-MODIFIED:20251218T080034Z
UID:19978-1771099860-1771099860@www.gemeinde-eschenburg.de
SUMMARY:Karnevalsfeier
DESCRIPTION:SV Eibelshausen  –  Sportheim
URL:https://www.gemeinde-eschenburg.de/veranstaltung/karnevalsfeier/
END:VEVENT
BEGIN:VEVENT
DTSTART;TZID=Europe/Berlin:20260217T190000
DTEND;TZID=Europe/Berlin:20260217T190000
DTSTAMP:20260419T174830
CREATED:20251218T080034Z
LAST-MODIFIED:20251218T080034Z
UID:19979-1771354800-1771354800@www.gemeinde-eschenburg.de
SUMMARY:Trainingszeiten Ortspokal Schießen
DESCRIPTION:Schützengilde Eibelshausen  –  Schützenhaus Eibelshausen
URL:https://www.gemeinde-eschenburg.de/veranstaltung/trainingszeiten-ortspokal-schiessen-10/
END:VEVENT
BEGIN:VEVENT
DTSTART;TZID=Europe/Berlin:20260220T180000
DTEND;TZID=Europe/Berlin:20260220T180000
DTSTAMP:20260419T174830
CREATED:20251218T105844Z
LAST-MODIFIED:20251218T105844Z
UID:20126-1771610400-1771610400@www.gemeinde-eschenburg.de
SUMMARY:Jahreshauptversammlung Jugendfeuerwehr
DESCRIPTION:Jugendfeuerwehr Eiershausen – DGH Eiershausen
URL:https://www.gemeinde-eschenburg.de/veranstaltung/jahreshauptversammlung-jugendfeuerwehr/
END:VEVENT
BEGIN:VEVENT
DTSTART;TZID=Europe/Berlin:20260220T180000
DTEND;TZID=Europe/Berlin:20260220T180000
DTSTAMP:20260419T174830
CREATED:20251222T085025Z
LAST-MODIFIED:20251222T085025Z
UID:20542-1771610400-1771610400@www.gemeinde-eschenburg.de
SUMMARY:Jahreshauptversammlung JFV
DESCRIPTION:JFV Eschenburg e.V. – Sportheim Eibelshausen
URL:https://www.gemeinde-eschenburg.de/veranstaltung/jahreshauptversammlung-jfv/
END:VEVENT
BEGIN:VEVENT
DTSTART;TZID=Europe/Berlin:20260220T190000
DTEND;TZID=Europe/Berlin:20260220T190000
DTSTAMP:20260419T174830
CREATED:20251218T080034Z
LAST-MODIFIED:20251218T080034Z
UID:19980-1771614000-1771614000@www.gemeinde-eschenburg.de
SUMMARY:Trainingszeiten Ortspokal Schießen
DESCRIPTION:Schützengilde Eibelshausen  –  Schützenhaus Eibelshausen
URL:https://www.gemeinde-eschenburg.de/veranstaltung/trainingszeiten-ortspokal-schiessen-9/
END:VEVENT
BEGIN:VEVENT
DTSTART;TZID=Europe/Berlin:20260220T190000
DTEND;TZID=Europe/Berlin:20260220T190000
DTSTAMP:20260419T174830
CREATED:20251218T080034Z
LAST-MODIFIED:20251218T080034Z
UID:19981-1771614000-1771614000@www.gemeinde-eschenburg.de
SUMMARY:Jahreshauptversammlung
DESCRIPTION:Geflügel Zuchtverein  –  Vereinsheim
URL:https://www.gemeinde-eschenburg.de/veranstaltung/jahreshauptversammlung-7/
END:VEVENT
BEGIN:VEVENT
DTSTART;TZID=Europe/Berlin:20260221T150000
DTEND;TZID=Europe/Berlin:20260221T150000
DTSTAMP:20260419T174830
CREATED:20251218T080034Z
LAST-MODIFIED:20251218T080034Z
UID:19982-1771686000-1771686000@www.gemeinde-eschenburg.de
SUMMARY:Jahreshauptversammlung
DESCRIPTION:NABU Eibelshausen  –  Jugendraum Bürgerhaus
URL:https://www.gemeinde-eschenburg.de/veranstaltung/jahreshauptversammlung-6/
END:VEVENT
BEGIN:VEVENT
DTSTART;TZID=Europe/Berlin:20260221T170000
DTEND;TZID=Europe/Berlin:20260221T170000
DTSTAMP:20260419T174830
CREATED:20251222T085025Z
LAST-MODIFIED:20251222T085025Z
UID:20543-1771693200-1771693200@www.gemeinde-eschenburg.de
SUMMARY:Jahreshauptversammlung SSV Wissenbach
DESCRIPTION:SSV Wissenbach – Sportheim
URL:https://www.gemeinde-eschenburg.de/veranstaltung/jahreshauptversammlung-ssv-wissenbach/
END:VEVENT
BEGIN:VEVENT
DTSTART;TZID=Europe/Berlin:20260221T180000
DTEND;TZID=Europe/Berlin:20260221T180000
DTSTAMP:20260419T174830
CREATED:20251218T105844Z
LAST-MODIFIED:20251218T105844Z
UID:20127-1771696800-1771696800@www.gemeinde-eschenburg.de
SUMMARY:Jahreshauptversammlung Einsatzabteilung
DESCRIPTION:Einsatzabteilung Feuerwehr Eiershausen – DGH Eiershausen
URL:https://www.gemeinde-eschenburg.de/veranstaltung/jahreshauptversammlung-einsatzabteilung/
END:VEVENT
BEGIN:VEVENT
DTSTART;TZID=Europe/Berlin:20260221T190000
DTEND;TZID=Europe/Berlin:20260221T190000
DTSTAMP:20260419T174830
CREATED:20251222T072608Z
LAST-MODIFIED:20251222T072608Z
UID:20317-1771700400-1771700400@www.gemeinde-eschenburg.de
SUMMARY:Jahreshauptversammlung Naturschutz- und Heimatverein Roth
DESCRIPTION:Naturschutz- und Heimatverein Roth – DGH Roth
URL:https://www.gemeinde-eschenburg.de/veranstaltung/jahreshauptversammlung-naturschutz-und-heimatverein-roth/
END:VEVENT
BEGIN:VEVENT
DTSTART;TZID=Europe/Berlin:20260221T190000
DTEND;TZID=Europe/Berlin:20260221T190000
DTSTAMP:20260419T174830
CREATED:20251222T074924Z
LAST-MODIFIED:20251222T074924Z
UID:20379-1771700400-1771700400@www.gemeinde-eschenburg.de
SUMMARY:Jahreshauptversammlung Verschönerungsverein Simmersbach
DESCRIPTION:Verschönerungsverein Simmersbach – Dorfgemeinschaftshaus
URL:https://www.gemeinde-eschenburg.de/veranstaltung/jahreshauptversammlung-verschoenerungsverein-simmersbach/
END:VEVENT
END:VCALENDAR