BEGIN:VCALENDAR
VERSION:2.0
PRODID:-//Gemeinde Eschenburg - Echte Perspektiven - ECPv6.15.17.1//NONSGML v1.0//EN
CALSCALE:GREGORIAN
METHOD:PUBLISH
X-WR-CALNAME:Gemeinde Eschenburg - Echte Perspektiven
X-ORIGINAL-URL:https://www.gemeinde-eschenburg.de
X-WR-CALDESC:Veranstaltungen für Gemeinde Eschenburg - Echte Perspektiven
REFRESH-INTERVAL;VALUE=DURATION:PT1H
X-Robots-Tag:noindex
X-PUBLISHED-TTL:PT1H
BEGIN:VTIMEZONE
TZID:Europe/Berlin
BEGIN:DAYLIGHT
TZOFFSETFROM:+0100
TZOFFSETTO:+0200
TZNAME:CEST
DTSTART:20250330T010000
END:DAYLIGHT
BEGIN:STANDARD
TZOFFSETFROM:+0200
TZOFFSETTO:+0100
TZNAME:CET
DTSTART:20251026T010000
END:STANDARD
BEGIN:DAYLIGHT
TZOFFSETFROM:+0100
TZOFFSETTO:+0200
TZNAME:CEST
DTSTART:20260329T010000
END:DAYLIGHT
BEGIN:STANDARD
TZOFFSETFROM:+0200
TZOFFSETTO:+0100
TZNAME:CET
DTSTART:20261025T010000
END:STANDARD
BEGIN:DAYLIGHT
TZOFFSETFROM:+0100
TZOFFSETTO:+0200
TZNAME:CEST
DTSTART:20270328T010000
END:DAYLIGHT
BEGIN:STANDARD
TZOFFSETFROM:+0200
TZOFFSETTO:+0100
TZNAME:CET
DTSTART:20271031T010000
END:STANDARD
END:VTIMEZONE
BEGIN:VEVENT
DTSTART;VALUE=DATE:20260423
DTEND;VALUE=DATE:20260427
DTSTAMP:20260419T153718
CREATED:20251222T074935Z
LAST-MODIFIED:20251222T074935Z
UID:20398-1776902400-1777247999@www.gemeinde-eschenburg.de
SUMMARY:BU Freizeit
DESCRIPTION:FeG Simmersbach – Klostermühle
URL:https://www.gemeinde-eschenburg.de/veranstaltung/bu-freizeit/
END:VEVENT
BEGIN:VEVENT
DTSTART;VALUE=DATE:20260424
DTEND;VALUE=DATE:20260426
DTSTAMP:20260419T153718
CREATED:20260402T084401Z
LAST-MODIFIED:20260402T084401Z
UID:20947-1776988800-1777161599@www.gemeinde-eschenburg.de
SUMMARY:Jungscharfreizeit
DESCRIPTION:Kirchengemeinde Roth – Gemeindehaus
URL:https://www.gemeinde-eschenburg.de/veranstaltung/jungscharfreizeit-2/
END:VEVENT
BEGIN:VEVENT
DTSTART;TZID=Europe/Berlin:20260424T190000
DTEND;TZID=Europe/Berlin:20260424T190000
DTSTAMP:20260419T153718
CREATED:20251222T085025Z
LAST-MODIFIED:20251222T085025Z
UID:20548-1777057200-1777057200@www.gemeinde-eschenburg.de
SUMMARY:Blockhüttenabend
DESCRIPTION:Obst- und Gartenbauverein Wissenbach – Blockhütte
URL:https://www.gemeinde-eschenburg.de/veranstaltung/blockhuettenabend-5/
END:VEVENT
BEGIN:VEVENT
DTSTART;TZID=Europe/Berlin:20260424T200000
DTEND;TZID=Europe/Berlin:20260424T200000
DTSTAMP:20260419T153718
CREATED:20251222T074935Z
LAST-MODIFIED:20251222T074935Z
UID:20399-1777060800-1777060800@www.gemeinde-eschenburg.de
SUMMARY:Konzert mit Adam Rafferty
DESCRIPTION:Ev. Gemeinschaftsverein Simmersbach – Ev. Vereinshaus
URL:https://www.gemeinde-eschenburg.de/veranstaltung/konzert-mit-adam-rafferty/
END:VEVENT
BEGIN:VEVENT
DTSTART;VALUE=DATE:20260425
DTEND;VALUE=DATE:20260426
DTSTAMP:20260419T153718
CREATED:20251218T143659Z
LAST-MODIFIED:20251218T143659Z
UID:20189-1777075200-1777161599@www.gemeinde-eschenburg.de
SUMMARY:Jahreshauptversammlung VdK
DESCRIPTION:VDK Hirzenhain – DGH Hirzenhain
URL:https://www.gemeinde-eschenburg.de/veranstaltung/jahreshauptversammlung-vdk-2/
END:VEVENT
BEGIN:VEVENT
DTSTART;TZID=Europe/Berlin:20260425T100000
DTEND;TZID=Europe/Berlin:20260425T100000
DTSTAMP:20260419T153718
CREATED:20251218T105844Z
LAST-MODIFIED:20251218T105844Z
UID:20131-1777111200-1777111200@www.gemeinde-eschenburg.de
SUMMARY:Aktion Saubere Landschaft
DESCRIPTION:Verschönerungsverein Eiershausen – Festplatz Eiershausen
URL:https://www.gemeinde-eschenburg.de/veranstaltung/aktion-saubere-landschaft/
END:VEVENT
BEGIN:VEVENT
DTSTART;TZID=Europe/Berlin:20260425T100000
DTEND;TZID=Europe/Berlin:20260425T100000
DTSTAMP:20260419T153718
CREATED:20251218T143659Z
LAST-MODIFIED:20251218T143659Z
UID:20188-1777111200-1777111200@www.gemeinde-eschenburg.de
SUMMARY:Veredelungslehrgang mit Pomologen Steffen Kahl
DESCRIPTION:OGV Hirzenhain – Flughalle am Hang
URL:https://www.gemeinde-eschenburg.de/veranstaltung/veredelungslehrgang-mit-pomologen-steffen-kahl/
END:VEVENT
BEGIN:VEVENT
DTSTART;TZID=Europe/Berlin:20260425T130000
DTEND;TZID=Europe/Berlin:20260425T130000
DTSTAMP:20260419T153718
CREATED:20251222T085025Z
LAST-MODIFIED:20251222T085025Z
UID:20549-1777122000-1777122000@www.gemeinde-eschenburg.de
SUMMARY:"Forellen"-Schießen
DESCRIPTION:Schützenverein 1970 Wissenbach e.V. – Schützenhaus
URL:https://www.gemeinde-eschenburg.de/veranstaltung/forellen-schiessen/
END:VEVENT
BEGIN:VEVENT
DTSTART;TZID=Europe/Berlin:20260426T104500
DTEND;TZID=Europe/Berlin:20260426T104500
DTSTAMP:20260419T153718
CREATED:20251218T105844Z
LAST-MODIFIED:20251218T105844Z
UID:20132-1777200300-1777200300@www.gemeinde-eschenburg.de
SUMMARY:Vorstellungsgottesdienst Konfirmanden
DESCRIPTION:Kirchengemeinde Eiershausen – Kirche Wissenbach
URL:https://www.gemeinde-eschenburg.de/veranstaltung/vorstellungsgottesdienst-konfirmanden/
END:VEVENT
BEGIN:VEVENT
DTSTART;TZID=Europe/Berlin:20260426T110000
DTEND;TZID=Europe/Berlin:20260426T110000
DTSTAMP:20260419T153718
CREATED:20251218T080006Z
LAST-MODIFIED:20251218T080006Z
UID:20013-1777201200-1777201200@www.gemeinde-eschenburg.de
SUMMARY:Aktionstag Waldklassenzimmer
DESCRIPTION:NABU Eibelshausen  –  Vogelschutzhütte
URL:https://www.gemeinde-eschenburg.de/veranstaltung/aktionstag-waldklassenzimmer/
END:VEVENT
BEGIN:VEVENT
DTSTART;TZID=Europe/Berlin:20260426T140000
DTEND;TZID=Europe/Berlin:20260426T140000
DTSTAMP:20260419T153718
CREATED:20251218T080006Z
LAST-MODIFIED:20251218T080006Z
UID:20014-1777212000-1777212000@www.gemeinde-eschenburg.de
SUMMARY:Jubiläum 75 Jahre Landfrauen Eibelshausen
DESCRIPTION:Landfrauen Eibelshausen   –  Bürgerhaus Eibelshausen
URL:https://www.gemeinde-eschenburg.de/veranstaltung/jubilaeum-75-jahre-landfrauen-eibelshausen/
END:VEVENT
BEGIN:VEVENT
DTSTART;VALUE=DATE:20260430
DTEND;VALUE=DATE:20260501
DTSTAMP:20260419T153718
CREATED:20251218T080006Z
LAST-MODIFIED:20251218T080006Z
UID:20015-1777507200-1777593599@www.gemeinde-eschenburg.de
SUMMARY:Maibaumaufstellung
DESCRIPTION:Lederhosenfreunde  –  Parkplatz Bürgerhaus
URL:https://www.gemeinde-eschenburg.de/veranstaltung/maibaumaufstellung/
END:VEVENT
BEGIN:VEVENT
DTSTART;VALUE=DATE:20260501
DTEND;VALUE=DATE:20260502
DTSTAMP:20260419T153718
CREATED:20251218T143659Z
LAST-MODIFIED:20251218T143659Z
UID:20190-1777593600-1777679999@www.gemeinde-eschenburg.de
SUMMARY:Maifeier
DESCRIPTION:Motorradclub Hirzenhain – Schutzhütte
URL:https://www.gemeinde-eschenburg.de/veranstaltung/maifeier/
END:VEVENT
BEGIN:VEVENT
DTSTART;TZID=Europe/Berlin:20260501T110000
DTEND;TZID=Europe/Berlin:20260501T110000
DTSTAMP:20260419T153718
CREATED:20251218T105844Z
LAST-MODIFIED:20251218T105844Z
UID:20133-1777633200-1777633200@www.gemeinde-eschenburg.de
SUMMARY:1.-Mai-Grillen
DESCRIPTION:Sportverein Eiershausen – Sportplatz Eiershausen
URL:https://www.gemeinde-eschenburg.de/veranstaltung/1-mai-grillen/
END:VEVENT
BEGIN:VEVENT
DTSTART;TZID=Europe/Berlin:20260501T110000
DTEND;TZID=Europe/Berlin:20260501T110000
DTSTAMP:20260419T153718
CREATED:20251222T072609Z
LAST-MODIFIED:20251222T072609Z
UID:20325-1777633200-1777633200@www.gemeinde-eschenburg.de
SUMMARY:Maifeier
DESCRIPTION:Naturschutz- und Heimatverein Roth – DGH Roth
URL:https://www.gemeinde-eschenburg.de/veranstaltung/maifeier-2/
END:VEVENT
BEGIN:VEVENT
DTSTART;TZID=Europe/Berlin:20260501T130000
DTEND;TZID=Europe/Berlin:20260501T130000
DTSTAMP:20260419T153718
CREATED:20251218T080006Z
LAST-MODIFIED:20251218T080006Z
UID:20016-1777640400-1777640400@www.gemeinde-eschenburg.de
SUMMARY:Tag der offenen Tür
DESCRIPTION:TC Eschenburg  –  Tennisanlage Waldweg
URL:https://www.gemeinde-eschenburg.de/veranstaltung/tag-der-offenen-tuer/
END:VEVENT
BEGIN:VEVENT
DTSTART;VALUE=DATE:20260503
DTEND;VALUE=DATE:20260504
DTSTAMP:20260419T153718
CREATED:20251222T085025Z
LAST-MODIFIED:20251222T085025Z
UID:20550-1777766400-1777852799@www.gemeinde-eschenburg.de
SUMMARY:Konfirmation
DESCRIPTION:Kirche Wissenbach – Kirche Wissenbach
URL:https://www.gemeinde-eschenburg.de/veranstaltung/konfirmation-3/
END:VEVENT
BEGIN:VEVENT
DTSTART;VALUE=DATE:20260503
DTEND;VALUE=DATE:20260504
DTSTAMP:20260419T153718
CREATED:20260402T094756Z
LAST-MODIFIED:20260402T094756Z
UID:20951-1777766400-1777852799@www.gemeinde-eschenburg.de
SUMMARY:Konfirmation
DESCRIPTION:Kirchengemeinde Roth – Kirche Roth
URL:https://www.gemeinde-eschenburg.de/veranstaltung/konfirmation-5/
END:VEVENT
BEGIN:VEVENT
DTSTART;VALUE=DATE:20260503
DTEND;VALUE=DATE:20260524
DTSTAMP:20260419T153718
CREATED:20260316T104031Z
LAST-MODIFIED:20260316T105055Z
UID:20879-1777766400-1779580799@www.gemeinde-eschenburg.de
SUMMARY:Stadtradeln 2026
DESCRIPTION:Gemeinde Eschenburg
URL:https://www.gemeinde-eschenburg.de/veranstaltung/stadtradeln/
END:VEVENT
BEGIN:VEVENT
DTSTART;TZID=Europe/Berlin:20260503T100000
DTEND;TZID=Europe/Berlin:20260503T100000
DTSTAMP:20260419T153718
CREATED:20251222T074935Z
LAST-MODIFIED:20251222T074935Z
UID:20400-1777802400-1777802400@www.gemeinde-eschenburg.de
SUMMARY:Vorstellungsgottesdienst der Konfirmanden
DESCRIPTION:Ev. Kirchengemeinde Simmersbach – Ev. Kirche Hirzenhain-Bahnhof
URL:https://www.gemeinde-eschenburg.de/veranstaltung/vorstellungsgottesdienst-der-konfirmanden/
END:VEVENT
BEGIN:VEVENT
DTSTART;TZID=Europe/Berlin:20260503T103000
DTEND;TZID=Europe/Berlin:20260503T103000
DTSTAMP:20260419T153718
CREATED:20251218T105844Z
LAST-MODIFIED:20251218T105844Z
UID:20134-1777804200-1777804200@www.gemeinde-eschenburg.de
SUMMARY:Konfirmation
DESCRIPTION:Kirchengemeinde Eiershausen – Kirche Eiershausen
URL:https://www.gemeinde-eschenburg.de/veranstaltung/konfirmation/
END:VEVENT
BEGIN:VEVENT
DTSTART;VALUE=DATE:20260504
DTEND;VALUE=DATE:20260505
DTSTAMP:20260419T153718
CREATED:20251222T085025Z
LAST-MODIFIED:20251222T085025Z
UID:20551-1777852800-1777939199@www.gemeinde-eschenburg.de
SUMMARY:Monatsversammlung
DESCRIPTION:Landfrauen Wissenbach -Sälchen im Backes
URL:https://www.gemeinde-eschenburg.de/veranstaltung/monatsversammlung-6/
END:VEVENT
BEGIN:VEVENT
DTSTART;VALUE=DATE:20260509
DTEND;VALUE=DATE:20260510
DTSTAMP:20260419T153718
CREATED:20251218T143719Z
LAST-MODIFIED:20251218T143719Z
UID:20191-1778284800-1778371199@www.gemeinde-eschenburg.de
SUMMARY:Waffelbackaktion
DESCRIPTION:CVJM Hirzenhain
URL:https://www.gemeinde-eschenburg.de/veranstaltung/waffelbackaktion/
END:VEVENT
BEGIN:VEVENT
DTSTART;VALUE=DATE:20260509
DTEND;VALUE=DATE:20260510
DTSTAMP:20260419T153718
CREATED:20251218T143719Z
LAST-MODIFIED:20251218T143719Z
UID:20192-1778284800-1778371199@www.gemeinde-eschenburg.de
SUMMARY:Eröffnungsfahrt
DESCRIPTION:Motorradclub Hirzenhain
URL:https://www.gemeinde-eschenburg.de/veranstaltung/eroeffnungsfahrt/
END:VEVENT
BEGIN:VEVENT
DTSTART;TZID=Europe/Berlin:20260509T090000
DTEND;TZID=Europe/Berlin:20260509T090000
DTSTAMP:20260419T153718
CREATED:20251218T080006Z
LAST-MODIFIED:20251218T080006Z
UID:20017-1778317200-1778317200@www.gemeinde-eschenburg.de
SUMMARY:Bürgerfrühstück
DESCRIPTION:Landfrauen Eibelshausen   –  Bürgerhaus Eibelshausen
URL:https://www.gemeinde-eschenburg.de/veranstaltung/buergerfruehstueck/
END:VEVENT
BEGIN:VEVENT
DTSTART;TZID=Europe/Berlin:20260509T100000
DTEND;TZID=Europe/Berlin:20260509T100000
DTSTAMP:20260419T153718
CREATED:20251218T105844Z
LAST-MODIFIED:20251218T105844Z
UID:20135-1778320800-1778320800@www.gemeinde-eschenburg.de
SUMMARY:Aktion Saubere Landschaft - Ausweichtermin!
DESCRIPTION:Verschönerungsverein Eiershausen – Festplatz Eiershausen
URL:https://www.gemeinde-eschenburg.de/veranstaltung/aktion-saubere-landschaft-ausweichtermin/
END:VEVENT
BEGIN:VEVENT
DTSTART;TZID=Europe/Berlin:20260509T150000
DTEND;TZID=Europe/Berlin:20260509T150000
DTSTAMP:20260419T153718
CREATED:20251222T085025Z
LAST-MODIFIED:20251222T085025Z
UID:20552-1778338800-1778338800@www.gemeinde-eschenburg.de
SUMMARY:Frühlingsfest
DESCRIPTION:SSV Wissenbach – Dorfplatz
URL:https://www.gemeinde-eschenburg.de/veranstaltung/fruehlingsfest/
END:VEVENT
BEGIN:VEVENT
DTSTART;VALUE=DATE:20260510
DTEND;VALUE=DATE:20260511
DTSTAMP:20260419T153718
CREATED:20251222T074935Z
LAST-MODIFIED:20251222T074935Z
UID:20193-1778371200-1778457599@www.gemeinde-eschenburg.de
SUMMARY:Konfirmation
DESCRIPTION:Ev. Kirchengemeinde Simmersbach – Ev. Kirche
URL:https://www.gemeinde-eschenburg.de/veranstaltung/konfirmation-2/
END:VEVENT
BEGIN:VEVENT
DTSTART;TZID=Europe/Berlin:20260510T100000
DTEND;TZID=Europe/Berlin:20260510T180000
DTSTAMP:20260419T153718
CREATED:20250927T090358Z
LAST-MODIFIED:20250927T090359Z
UID:19662-1778407200-1778436000@www.gemeinde-eschenburg.de
SUMMARY:MundART mit Biss!
DESCRIPTION:„MundART mit Biss!“ zum „Made“ im Mai: Nach der Premiere kam bei der Auswertung der Rückmeldungen die Idee der früheren AG Markt wieder auf\, den traditionellen Markt mit einer neuen Veranstaltung zu kombinieren. Mundart-Festival wird nun am 10. Mai 2026 in den Frühjahrsmarkt integriert\, wie die Verwaltung und das Büro „Kulturconsult“ planen.
URL:https://www.gemeinde-eschenburg.de/veranstaltung/mundart-mit-biss/
LOCATION:Evangelische Kirche Eibelshausen\, Arche\, Kirchstraße 1\, Eschenburg\, Hessen\, 35713\, Deutschland
CATEGORIES:Feste,Konzerte
ATTACH;FMTTYPE=image/jpeg:https://www.gemeinde-eschenburg.de/wp-content/uploads/260510-MundART-mit-Biss-HMLU.jpg
ORGANIZER;CN="Gemeinde Eschenburg":MAILTO:buergermeister@eschenburg.de
END:VEVENT
BEGIN:VEVENT
DTSTART;TZID=Europe/Berlin:20260513T153000
DTEND;TZID=Europe/Berlin:20260513T170000
DTSTAMP:20260419T153718
CREATED:20260331T094542Z
LAST-MODIFIED:20260331T094542Z
UID:20918-1778686200-1778691600@www.gemeinde-eschenburg.de
SUMMARY:Monatsversammlung
DESCRIPTION:Landfrauen Eibelshausen – Jugendraum Bürgerhaus
URL:https://www.gemeinde-eschenburg.de/veranstaltung/monatsversammlung-11/
END:VEVENT
END:VCALENDAR