BEGIN:VCALENDAR
VERSION:2.0
PRODID:-//Gemeinde Eschenburg - Echte Perspektiven - ECPv6.15.17.1//NONSGML v1.0//EN
CALSCALE:GREGORIAN
METHOD:PUBLISH
X-WR-CALNAME:Gemeinde Eschenburg - Echte Perspektiven
X-ORIGINAL-URL:https://www.gemeinde-eschenburg.de
X-WR-CALDESC:Veranstaltungen für Gemeinde Eschenburg - Echte Perspektiven
REFRESH-INTERVAL;VALUE=DURATION:PT1H
X-Robots-Tag:noindex
X-PUBLISHED-TTL:PT1H
BEGIN:VTIMEZONE
TZID:Europe/Berlin
BEGIN:DAYLIGHT
TZOFFSETFROM:+0100
TZOFFSETTO:+0200
TZNAME:CEST
DTSTART:20250330T010000
END:DAYLIGHT
BEGIN:STANDARD
TZOFFSETFROM:+0200
TZOFFSETTO:+0100
TZNAME:CET
DTSTART:20251026T010000
END:STANDARD
BEGIN:DAYLIGHT
TZOFFSETFROM:+0100
TZOFFSETTO:+0200
TZNAME:CEST
DTSTART:20260329T010000
END:DAYLIGHT
BEGIN:STANDARD
TZOFFSETFROM:+0200
TZOFFSETTO:+0100
TZNAME:CET
DTSTART:20261025T010000
END:STANDARD
BEGIN:DAYLIGHT
TZOFFSETFROM:+0100
TZOFFSETTO:+0200
TZNAME:CEST
DTSTART:20270328T010000
END:DAYLIGHT
BEGIN:STANDARD
TZOFFSETFROM:+0200
TZOFFSETTO:+0100
TZNAME:CET
DTSTART:20271031T010000
END:STANDARD
END:VTIMEZONE
BEGIN:VEVENT
DTSTART;VALUE=DATE:20260711
DTEND;VALUE=DATE:20260719
DTSTAMP:20260425T232142
CREATED:20251218T143719Z
LAST-MODIFIED:20251218T143719Z
UID:20206-1783728000-1784419199@www.gemeinde-eschenburg.de
SUMMARY:Jungscharfreizeit in Eppe
DESCRIPTION:CVJM Hirzenhain
URL:https://www.gemeinde-eschenburg.de/veranstaltung/jungscharfreizeit-in-eppe/
END:VEVENT
BEGIN:VEVENT
DTSTART;VALUE=DATE:20260714
DTEND;VALUE=DATE:20260728
DTSTAMP:20260425T232142
CREATED:20251222T074954Z
LAST-MODIFIED:20251222T074954Z
UID:20415-1783987200-1785196799@www.gemeinde-eschenburg.de
SUMMARY:Jugendfreizeit in Norwegen
DESCRIPTION:FeG Simmersbach
URL:https://www.gemeinde-eschenburg.de/veranstaltung/jugendfreizeit-in-norwegen/
END:VEVENT
BEGIN:VEVENT
DTSTART;VALUE=DATE:20260718
DTEND;VALUE=DATE:20260802
DTSTAMP:20260425T232142
CREATED:20251218T075949Z
LAST-MODIFIED:20251218T075949Z
UID:20028-1784332800-1785628799@www.gemeinde-eschenburg.de
SUMMARY:Jugendfreizeit Montafon
DESCRIPTION:CVJM Eibelshausen  –  Montafon
URL:https://www.gemeinde-eschenburg.de/veranstaltung/jugendfreizeit-montafon/
END:VEVENT
BEGIN:VEVENT
DTSTART;TZID=Europe/Berlin:20260718T140000
DTEND;TZID=Europe/Berlin:20260718T153000
DTSTAMP:20260425T232142
CREATED:20251222T085025Z
LAST-MODIFIED:20251222T085025Z
UID:20557-1784383200-1784388600@www.gemeinde-eschenburg.de
SUMMARY:DFB Fussballabzeichen
DESCRIPTION:JFV Eschenburg e.V. – Sportplatz Wissenbach
URL:https://www.gemeinde-eschenburg.de/veranstaltung/dfb-fussballabzeichen/
END:VEVENT
END:VCALENDAR