BEGIN:VCALENDAR
VERSION:2.0
PRODID:-//Gemeinde Eschenburg - Echte Perspektiven - ECPv6.15.17.1//NONSGML v1.0//EN
CALSCALE:GREGORIAN
METHOD:PUBLISH
X-ORIGINAL-URL:https://www.gemeinde-eschenburg.de
X-WR-CALDESC:Veranstaltungen für Gemeinde Eschenburg - Echte Perspektiven
REFRESH-INTERVAL;VALUE=DURATION:PT1H
X-Robots-Tag:noindex
X-PUBLISHED-TTL:PT1H
BEGIN:VTIMEZONE
TZID:Europe/Berlin
BEGIN:DAYLIGHT
TZOFFSETFROM:+0100
TZOFFSETTO:+0200
TZNAME:CEST
DTSTART:20250330T010000
END:DAYLIGHT
BEGIN:STANDARD
TZOFFSETFROM:+0200
TZOFFSETTO:+0100
TZNAME:CET
DTSTART:20251026T010000
END:STANDARD
BEGIN:DAYLIGHT
TZOFFSETFROM:+0100
TZOFFSETTO:+0200
TZNAME:CEST
DTSTART:20260329T010000
END:DAYLIGHT
BEGIN:STANDARD
TZOFFSETFROM:+0200
TZOFFSETTO:+0100
TZNAME:CET
DTSTART:20261025T010000
END:STANDARD
BEGIN:DAYLIGHT
TZOFFSETFROM:+0100
TZOFFSETTO:+0200
TZNAME:CEST
DTSTART:20270328T010000
END:DAYLIGHT
BEGIN:STANDARD
TZOFFSETFROM:+0200
TZOFFSETTO:+0100
TZNAME:CET
DTSTART:20271031T010000
END:STANDARD
END:VTIMEZONE
BEGIN:VEVENT
DTSTART;TZID=Europe/Berlin:20260604T100000
DTEND;TZID=Europe/Berlin:20260604T100000
DTSTAMP:20260423T141258
CREATED:20251218T080005Z
LAST-MODIFIED:20251218T080005Z
UID:20022-1780567200-1780567200@www.gemeinde-eschenburg.de
SUMMARY:Geöffnet für Wanderer / Frühschoppen
DESCRIPTION:SV Eibelshausen  –  Sportheim
URL:https://www.gemeinde-eschenburg.de/veranstaltung/geoeffnet-fuer-wanderer-fruehschoppen/
END:VEVENT
BEGIN:VEVENT
DTSTART;TZID=Europe/Berlin:20260604T110000
DTEND;TZID=Europe/Berlin:20260604T110000
DTSTAMP:20260423T141258
CREATED:20251222T074935Z
LAST-MODIFIED:20251222T074935Z
UID:20406-1780570800-1780570800@www.gemeinde-eschenburg.de
SUMMARY:Bratfest
DESCRIPTION:Verschönerungsverein Simmersbach – Schutzhütte
URL:https://www.gemeinde-eschenburg.de/veranstaltung/bratfest/
END:VEVENT
END:VCALENDAR