BEGIN:VCALENDAR
VERSION:2.0
PRODID:-//Gemeinde Eschenburg - Echte Perspektiven - ECPv6.15.17.1//NONSGML v1.0//EN
CALSCALE:GREGORIAN
METHOD:PUBLISH
X-ORIGINAL-URL:https://www.gemeinde-eschenburg.de
X-WR-CALDESC:Veranstaltungen für Gemeinde Eschenburg - Echte Perspektiven
REFRESH-INTERVAL;VALUE=DURATION:PT1H
X-Robots-Tag:noindex
X-PUBLISHED-TTL:PT1H
BEGIN:VTIMEZONE
TZID:Europe/Berlin
BEGIN:DAYLIGHT
TZOFFSETFROM:+0100
TZOFFSETTO:+0200
TZNAME:CEST
DTSTART:20250330T010000
END:DAYLIGHT
BEGIN:STANDARD
TZOFFSETFROM:+0200
TZOFFSETTO:+0100
TZNAME:CET
DTSTART:20251026T010000
END:STANDARD
BEGIN:DAYLIGHT
TZOFFSETFROM:+0100
TZOFFSETTO:+0200
TZNAME:CEST
DTSTART:20260329T010000
END:DAYLIGHT
BEGIN:STANDARD
TZOFFSETFROM:+0200
TZOFFSETTO:+0100
TZNAME:CET
DTSTART:20261025T010000
END:STANDARD
BEGIN:DAYLIGHT
TZOFFSETFROM:+0100
TZOFFSETTO:+0200
TZNAME:CEST
DTSTART:20270328T010000
END:DAYLIGHT
BEGIN:STANDARD
TZOFFSETFROM:+0200
TZOFFSETTO:+0100
TZNAME:CET
DTSTART:20271031T010000
END:STANDARD
END:VTIMEZONE
BEGIN:VEVENT
DTSTART;VALUE=DATE:20260524
DTEND;VALUE=DATE:20260525
DTSTAMP:20260423T141327
CREATED:20251218T143719Z
LAST-MODIFIED:20251218T143719Z
UID:20198-1779580800-1779667199@www.gemeinde-eschenburg.de
SUMMARY:Frühschoppen
DESCRIPTION:SFC  Hirzenhain
URL:https://www.gemeinde-eschenburg.de/veranstaltung/fruehschoppen/
END:VEVENT
BEGIN:VEVENT
DTSTART;TZID=Europe/Berlin:20260524T130000
DTEND;TZID=Europe/Berlin:20260524T130000
DTSTAMP:20260423T141327
CREATED:20251222T072609Z
LAST-MODIFIED:20251222T072609Z
UID:20328-1779627600-1779627600@www.gemeinde-eschenburg.de
SUMMARY:Maimann rockt
DESCRIPTION:Jugendclub Roth – Schutzhütte
URL:https://www.gemeinde-eschenburg.de/veranstaltung/maimann-rockt/
END:VEVENT
END:VCALENDAR