BEGIN:VCALENDAR
VERSION:2.0
PRODID:-//Gemeinde Eschenburg - Echte Perspektiven - ECPv6.15.17.1//NONSGML v1.0//EN
CALSCALE:GREGORIAN
METHOD:PUBLISH
X-ORIGINAL-URL:https://www.gemeinde-eschenburg.de
X-WR-CALDESC:Veranstaltungen für Gemeinde Eschenburg - Echte Perspektiven
REFRESH-INTERVAL;VALUE=DURATION:PT1H
X-Robots-Tag:noindex
X-PUBLISHED-TTL:PT1H
BEGIN:VTIMEZONE
TZID:Europe/Berlin
BEGIN:DAYLIGHT
TZOFFSETFROM:+0100
TZOFFSETTO:+0200
TZNAME:CEST
DTSTART:20250330T010000
END:DAYLIGHT
BEGIN:STANDARD
TZOFFSETFROM:+0200
TZOFFSETTO:+0100
TZNAME:CET
DTSTART:20251026T010000
END:STANDARD
BEGIN:DAYLIGHT
TZOFFSETFROM:+0100
TZOFFSETTO:+0200
TZNAME:CEST
DTSTART:20260329T010000
END:DAYLIGHT
BEGIN:STANDARD
TZOFFSETFROM:+0200
TZOFFSETTO:+0100
TZNAME:CET
DTSTART:20261025T010000
END:STANDARD
BEGIN:DAYLIGHT
TZOFFSETFROM:+0100
TZOFFSETTO:+0200
TZNAME:CEST
DTSTART:20270328T010000
END:DAYLIGHT
BEGIN:STANDARD
TZOFFSETFROM:+0200
TZOFFSETTO:+0100
TZNAME:CET
DTSTART:20271031T010000
END:STANDARD
END:VTIMEZONE
BEGIN:VEVENT
DTSTART;VALUE=DATE:20260503
DTEND;VALUE=DATE:20260524
DTSTAMP:20260423T130247
CREATED:20260316T104031Z
LAST-MODIFIED:20260316T105055Z
UID:20879-1777766400-1779580799@www.gemeinde-eschenburg.de
SUMMARY:Stadtradeln 2026
DESCRIPTION:Gemeinde Eschenburg
URL:https://www.gemeinde-eschenburg.de/veranstaltung/stadtradeln/
END:VEVENT
BEGIN:VEVENT
DTSTART;TZID=Europe/Berlin:20260514T093000
DTEND;TZID=Europe/Berlin:20260514T093000
DTSTAMP:20260423T130247
CREATED:20251222T074935Z
LAST-MODIFIED:20251222T074935Z
UID:20403-1778751000-1778751000@www.gemeinde-eschenburg.de
SUMMARY:Gottesdienst zu Christi Himmelfahrt
DESCRIPTION:Ev. Kirchengemeinde Simmersbach – Wilhelmssteine
URL:https://www.gemeinde-eschenburg.de/veranstaltung/gottesdienst-zu-christi-himmelfahrt/
END:VEVENT
BEGIN:VEVENT
DTSTART;TZID=Europe/Berlin:20260514T100000
DTEND;TZID=Europe/Berlin:20260514T100000
DTSTAMP:20260423T130247
CREATED:20251222T074935Z
LAST-MODIFIED:20251222T074935Z
UID:20402-1778752800-1778752800@www.gemeinde-eschenburg.de
SUMMARY:Wandertag
DESCRIPTION:SSV Simmersbach – Untere Bushaltestelle
URL:https://www.gemeinde-eschenburg.de/veranstaltung/wandertag/
END:VEVENT
BEGIN:VEVENT
DTSTART;TZID=Europe/Berlin:20260514T103000
DTEND;TZID=Europe/Berlin:20260514T123000
DTSTAMP:20260423T130247
CREATED:20260402T094912Z
LAST-MODIFIED:20260402T094912Z
UID:20953-1778754600-1778761800@www.gemeinde-eschenburg.de
SUMMARY:Gottesdienst
DESCRIPTION:Kirchengemeinde Roth – Grube Gottesgabe
URL:https://www.gemeinde-eschenburg.de/veranstaltung/gottesdienst-2/
END:VEVENT
BEGIN:VEVENT
DTSTART;TZID=Europe/Berlin:20260514T110000
DTEND;TZID=Europe/Berlin:20260514T110000
DTSTAMP:20260423T130247
CREATED:20251218T080006Z
LAST-MODIFIED:20251218T080006Z
UID:20018-1778756400-1778756400@www.gemeinde-eschenburg.de
SUMMARY:Würstchenbratfest
DESCRIPTION:VVVE  –  Eierbank
URL:https://www.gemeinde-eschenburg.de/veranstaltung/wuerstchenbratfest/
END:VEVENT
END:VCALENDAR