BEGIN:VCALENDAR
VERSION:2.0
PRODID:-//Gemeinde Eschenburg - Echte Perspektiven - ECPv6.15.17.1//NONSGML v1.0//EN
CALSCALE:GREGORIAN
METHOD:PUBLISH
X-ORIGINAL-URL:https://www.gemeinde-eschenburg.de
X-WR-CALDESC:Veranstaltungen für Gemeinde Eschenburg - Echte Perspektiven
REFRESH-INTERVAL;VALUE=DURATION:PT1H
X-Robots-Tag:noindex
X-PUBLISHED-TTL:PT1H
BEGIN:VTIMEZONE
TZID:Europe/Berlin
BEGIN:DAYLIGHT
TZOFFSETFROM:+0100
TZOFFSETTO:+0200
TZNAME:CEST
DTSTART:20250330T010000
END:DAYLIGHT
BEGIN:STANDARD
TZOFFSETFROM:+0200
TZOFFSETTO:+0100
TZNAME:CET
DTSTART:20251026T010000
END:STANDARD
BEGIN:DAYLIGHT
TZOFFSETFROM:+0100
TZOFFSETTO:+0200
TZNAME:CEST
DTSTART:20260329T010000
END:DAYLIGHT
BEGIN:STANDARD
TZOFFSETFROM:+0200
TZOFFSETTO:+0100
TZNAME:CET
DTSTART:20261025T010000
END:STANDARD
BEGIN:DAYLIGHT
TZOFFSETFROM:+0100
TZOFFSETTO:+0200
TZNAME:CEST
DTSTART:20270328T010000
END:DAYLIGHT
BEGIN:STANDARD
TZOFFSETFROM:+0200
TZOFFSETTO:+0100
TZNAME:CET
DTSTART:20271031T010000
END:STANDARD
END:VTIMEZONE
BEGIN:VEVENT
DTSTART;TZID=Europe/Berlin:20260227T143000
DTEND;TZID=Europe/Berlin:20260227T143000
DTSTAMP:20260419T174414
CREATED:20251218T080022Z
LAST-MODIFIED:20251218T080022Z
UID:19988-1772202600-1772202600@www.gemeinde-eschenburg.de
SUMMARY:Berufs-/Ausbildungsmesse
DESCRIPTION:Holderbergschule  –  Holderbergschule
URL:https://www.gemeinde-eschenburg.de/veranstaltung/berufs-ausbildungsmesse/
END:VEVENT
BEGIN:VEVENT
DTSTART;TZID=Europe/Berlin:20260227T180000
DTEND;TZID=Europe/Berlin:20260227T180000
DTSTAMP:20260419T174414
CREATED:20251218T080022Z
LAST-MODIFIED:20251218T080022Z
UID:19987-1772215200-1772215200@www.gemeinde-eschenburg.de
SUMMARY:Jahreshauptversammlung SV Eibelshausen
DESCRIPTION:SV Eibelshausen  –  Sportheim
URL:https://www.gemeinde-eschenburg.de/veranstaltung/jahreshauptversammlung-sv-eibelshausen/
END:VEVENT
BEGIN:VEVENT
DTSTART;TZID=Europe/Berlin:20260227T190000
DTEND;TZID=Europe/Berlin:20260227T190000
DTSTAMP:20260419T174414
CREATED:20251218T080022Z
LAST-MODIFIED:20251218T080022Z
UID:19985-1772218800-1772218800@www.gemeinde-eschenburg.de
SUMMARY:Trainingszeiten Ortspokal Schießen
DESCRIPTION:Schützengilde Eibelshausen  –  Schützenhaus
URL:https://www.gemeinde-eschenburg.de/veranstaltung/trainingszeiten-ortspokal-schiessen-7/
END:VEVENT
BEGIN:VEVENT
DTSTART;TZID=Europe/Berlin:20260227T190000
DTEND;TZID=Europe/Berlin:20260227T190000
DTSTAMP:20260419T174414
CREATED:20251218T080022Z
LAST-MODIFIED:20251218T080022Z
UID:19986-1772218800-1772218800@www.gemeinde-eschenburg.de
SUMMARY:Jahreshauptversammlung TC Eschenburg
DESCRIPTION:TC Eschenburg  –  Vereinsheim
URL:https://www.gemeinde-eschenburg.de/veranstaltung/jahreshauptversammlung-tc-eschenburg/
END:VEVENT
END:VCALENDAR